BEGIN:VCALENDAR
VERSION:2.0
PRODID:-//Holladay Distillery - ECPv6.15.20//NONSGML v1.0//EN
CALSCALE:GREGORIAN
METHOD:PUBLISH
X-WR-CALNAME:Holladay Distillery
X-ORIGINAL-URL:https://holladaydistillery.com
X-WR-CALDESC:Events for Holladay Distillery
REFRESH-INTERVAL;VALUE=DURATION:PT1H
X-Robots-Tag:noindex
X-PUBLISHED-TTL:PT1H
BEGIN:VTIMEZONE
TZID:America/Chicago
BEGIN:DAYLIGHT
TZOFFSETFROM:-0600
TZOFFSETTO:-0500
TZNAME:CDT
DTSTART:20240310T080000
END:DAYLIGHT
BEGIN:STANDARD
TZOFFSETFROM:-0500
TZOFFSETTO:-0600
TZNAME:CST
DTSTART:20241103T070000
END:STANDARD
BEGIN:DAYLIGHT
TZOFFSETFROM:-0600
TZOFFSETTO:-0500
TZNAME:CDT
DTSTART:20250309T080000
END:DAYLIGHT
BEGIN:STANDARD
TZOFFSETFROM:-0500
TZOFFSETTO:-0600
TZNAME:CST
DTSTART:20251102T070000
END:STANDARD
BEGIN:DAYLIGHT
TZOFFSETFROM:-0600
TZOFFSETTO:-0500
TZNAME:CDT
DTSTART:20260308T080000
END:DAYLIGHT
BEGIN:STANDARD
TZOFFSETFROM:-0500
TZOFFSETTO:-0600
TZNAME:CST
DTSTART:20261101T070000
END:STANDARD
END:VTIMEZONE
BEGIN:VEVENT
DTSTART;TZID=America/Chicago:20250705T130000
DTEND;TZID=America/Chicago:20250705T160000
DTSTAMP:20260423T063152
CREATED:20250429T191848Z
LAST-MODIFIED:20250429T191848Z
UID:4609-1751720400-1751731200@holladaydistillery.com
SUMMARY:Live Music - Miguel Antonio
DESCRIPTION:
URL:https://holladaydistillery.com/event/live-music-miguel-antonio-3/2025-07-05/
LOCATION:Holladay Distillery Welcome Center\, 1 McCormick Lane\, Weston\, MO\, 64098\, United States
CATEGORIES:Free,Live Music
END:VEVENT
BEGIN:VEVENT
DTSTART;TZID=America/Chicago:20250712T130000
DTEND;TZID=America/Chicago:20250712T160000
DTSTAMP:20260423T063152
CREATED:20250429T193305Z
LAST-MODIFIED:20250429T193305Z
UID:4620-1752325200-1752336000@holladaydistillery.com
SUMMARY:Live Music - Kierra Rae
DESCRIPTION:
URL:https://holladaydistillery.com/event/live-music-kierra-rae/2025-07-12/
LOCATION:Holladay Distillery Welcome Center\, 1 McCormick Lane\, Weston\, MO\, 64098\, United States
CATEGORIES:Free,Live Music
END:VEVENT
BEGIN:VEVENT
DTSTART;TZID=America/Chicago:20250719T130000
DTEND;TZID=America/Chicago:20250719T160000
DTSTAMP:20260423T063152
CREATED:20250429T191109Z
LAST-MODIFIED:20250429T191157Z
UID:4587-1752930000-1752940800@holladaydistillery.com
SUMMARY:Live Music - Noah Anthony
DESCRIPTION:
URL:https://holladaydistillery.com/event/live-music-noah-anthony/2025-07-19/
LOCATION:Holladay Distillery Welcome Center\, 1 McCormick Lane\, Weston\, MO\, 64098\, United States
CATEGORIES:Free,Live Music
END:VEVENT
BEGIN:VEVENT
DTSTART;TZID=America/Chicago:20250726T130000
DTEND;TZID=America/Chicago:20250726T160000
DTSTAMP:20260423T063152
CREATED:20250429T191109Z
LAST-MODIFIED:20250429T191158Z
UID:4588-1753534800-1753545600@holladaydistillery.com
SUMMARY:Live Music - Noah Anthony
DESCRIPTION:
URL:https://holladaydistillery.com/event/live-music-noah-anthony/2025-07-26/
LOCATION:Holladay Distillery Welcome Center\, 1 McCormick Lane\, Weston\, MO\, 64098\, United States
CATEGORIES:Free,Live Music
END:VEVENT
END:VCALENDAR