BEGIN:VCALENDAR
VERSION:2.0
PRODID:-//Holladay Distillery - ECPv6.15.20//NONSGML v1.0//EN
CALSCALE:GREGORIAN
METHOD:PUBLISH
X-WR-CALNAME:Holladay Distillery
X-ORIGINAL-URL:https://holladaydistillery.com
X-WR-CALDESC:Events for Holladay Distillery
REFRESH-INTERVAL;VALUE=DURATION:PT1H
X-Robots-Tag:noindex
X-PUBLISHED-TTL:PT1H
BEGIN:VTIMEZONE
TZID:America/Chicago
BEGIN:DAYLIGHT
TZOFFSETFROM:-0600
TZOFFSETTO:-0500
TZNAME:CDT
DTSTART:20230312T080000
END:DAYLIGHT
BEGIN:STANDARD
TZOFFSETFROM:-0500
TZOFFSETTO:-0600
TZNAME:CST
DTSTART:20231105T070000
END:STANDARD
BEGIN:DAYLIGHT
TZOFFSETFROM:-0600
TZOFFSETTO:-0500
TZNAME:CDT
DTSTART:20240310T080000
END:DAYLIGHT
BEGIN:STANDARD
TZOFFSETFROM:-0500
TZOFFSETTO:-0600
TZNAME:CST
DTSTART:20241103T070000
END:STANDARD
BEGIN:DAYLIGHT
TZOFFSETFROM:-0600
TZOFFSETTO:-0500
TZNAME:CDT
DTSTART:20250309T080000
END:DAYLIGHT
BEGIN:STANDARD
TZOFFSETFROM:-0500
TZOFFSETTO:-0600
TZNAME:CST
DTSTART:20251102T070000
END:STANDARD
END:VTIMEZONE
BEGIN:VEVENT
DTSTART;TZID=America/Chicago:20240901T120000
DTEND;TZID=America/Chicago:20240901T150000
DTSTAMP:20260424T001952
CREATED:20240625T133922Z
LAST-MODIFIED:20240625T133922Z
UID:4082-1725192000-1725202800@holladaydistillery.com
SUMMARY:Live Music - George Scheckle
DESCRIPTION:
URL:https://holladaydistillery.com/event/live-music-george-scheckle/
LOCATION:Holladay Distillery Welcome Center\, 1 McCormick Lane\, Weston\, MO\, 64098\, United States
CATEGORIES:Free,Live Music
END:VEVENT
BEGIN:VEVENT
DTSTART;VALUE=DATE:20240907
DTEND;VALUE=DATE:20240908
DTSTAMP:20260424T001952
CREATED:20240828T144324Z
LAST-MODIFIED:20240828T151111Z
UID:4159-1725667200-1725753599@holladaydistillery.com
SUMMARY:Fallidays
DESCRIPTION:There’s no better place to enjoy a crisp Fall day than in Weston\, Mo. Plan your visit now to come see us at the Holladay Distillery Welcome Center every Saturday and Sunday for Real Missouri Bourbon\, specialty craft cocktails\, live music\, yard games\, food trucks\, and more!  \nDetails can be found here! 
URL:https://holladaydistillery.com/event/fallidays-at-holladay/2024-09-07/
LOCATION:Holladay Distillery Welcome Center\, 1 McCormick Lane\, Weston\, MO\, 64098\, United States
CATEGORIES:Free,Live Music
END:VEVENT
BEGIN:VEVENT
DTSTART;TZID=America/Chicago:20240907T130000
DTEND;TZID=America/Chicago:20240907T160000
DTSTAMP:20260424T001952
CREATED:20240625T134000Z
LAST-MODIFIED:20240903T160104Z
UID:4084-1725714000-1725724800@holladaydistillery.com
SUMMARY:Live Music - Natalie Prauser
DESCRIPTION:
URL:https://holladaydistillery.com/event/live-music-natalie-prauser/
LOCATION:Holladay Distillery Welcome Center\, 1 McCormick Lane\, Weston\, MO\, 64098\, United States
CATEGORIES:Free,Live Music
END:VEVENT
BEGIN:VEVENT
DTSTART;VALUE=DATE:20240908
DTEND;VALUE=DATE:20240909
DTSTAMP:20260424T001952
CREATED:20240828T144324Z
LAST-MODIFIED:20240828T151111Z
UID:4241-1725753600-1725839999@holladaydistillery.com
SUMMARY:Fallidays
DESCRIPTION:There’s no better place to enjoy a crisp Fall day than in Weston\, Mo. Plan your visit now to come see us at the Holladay Distillery Welcome Center every Saturday and Sunday for Real Missouri Bourbon\, specialty craft cocktails\, live music\, yard games\, food trucks\, and more!  \nDetails can be found here! 
URL:https://holladaydistillery.com/event/fallidays-at-holladay/2024-09-08/
LOCATION:Holladay Distillery Welcome Center\, 1 McCormick Lane\, Weston\, MO\, 64098\, United States
CATEGORIES:Free,Live Music
END:VEVENT
BEGIN:VEVENT
DTSTART;TZID=America/Chicago:20240908T120000
DTEND;TZID=America/Chicago:20240908T150000
DTSTAMP:20260424T001952
CREATED:20240625T134038Z
LAST-MODIFIED:20240625T134038Z
UID:4086-1725796800-1725807600@holladaydistillery.com
SUMMARY:Live Music - Drew Six
DESCRIPTION:
URL:https://holladaydistillery.com/event/live-music-drew-six-4/
LOCATION:Holladay Distillery Welcome Center\, 1 McCormick Lane\, Weston\, MO\, 64098\, United States
CATEGORIES:Free,Live Music
END:VEVENT
BEGIN:VEVENT
DTSTART;VALUE=DATE:20240914
DTEND;VALUE=DATE:20240915
DTSTAMP:20260424T001952
CREATED:20240828T144324Z
LAST-MODIFIED:20240828T151113Z
UID:4242-1726272000-1726358399@holladaydistillery.com
SUMMARY:Fallidays
DESCRIPTION:There’s no better place to enjoy a crisp Fall day than in Weston\, Mo. Plan your visit now to come see us at the Holladay Distillery Welcome Center every Saturday and Sunday for Real Missouri Bourbon\, specialty craft cocktails\, live music\, yard games\, food trucks\, and more!  \nDetails can be found here! 
URL:https://holladaydistillery.com/event/fallidays-at-holladay/2024-09-14/
LOCATION:Holladay Distillery Welcome Center\, 1 McCormick Lane\, Weston\, MO\, 64098\, United States
CATEGORIES:Free,Live Music
END:VEVENT
BEGIN:VEVENT
DTSTART;TZID=America/Chicago:20240914T130000
DTEND;TZID=America/Chicago:20240914T160000
DTSTAMP:20260424T001952
CREATED:20240625T134153Z
LAST-MODIFIED:20240625T134153Z
UID:4088-1726318800-1726329600@holladaydistillery.com
SUMMARY:Live Music - Noah Anthony
DESCRIPTION:
URL:https://holladaydistillery.com/event/live-music-noah-anthony-2/
LOCATION:Holladay Distillery Welcome Center\, 1 McCormick Lane\, Weston\, MO\, 64098\, United States
CATEGORIES:Free,Live Music
END:VEVENT
BEGIN:VEVENT
DTSTART;VALUE=DATE:20240915
DTEND;VALUE=DATE:20240916
DTSTAMP:20260424T001952
CREATED:20240828T144324Z
LAST-MODIFIED:20240828T151114Z
UID:4243-1726358400-1726444799@holladaydistillery.com
SUMMARY:Fallidays
DESCRIPTION:There’s no better place to enjoy a crisp Fall day than in Weston\, Mo. Plan your visit now to come see us at the Holladay Distillery Welcome Center every Saturday and Sunday for Real Missouri Bourbon\, specialty craft cocktails\, live music\, yard games\, food trucks\, and more!  \nDetails can be found here! 
URL:https://holladaydistillery.com/event/fallidays-at-holladay/2024-09-15/
LOCATION:Holladay Distillery Welcome Center\, 1 McCormick Lane\, Weston\, MO\, 64098\, United States
CATEGORIES:Free,Live Music
END:VEVENT
BEGIN:VEVENT
DTSTART;TZID=America/Chicago:20240915T120000
DTEND;TZID=America/Chicago:20240915T150000
DTSTAMP:20260424T001952
CREATED:20240625T134226Z
LAST-MODIFIED:20240625T134226Z
UID:4090-1726401600-1726412400@holladaydistillery.com
SUMMARY:Live Music - Garrett Childers
DESCRIPTION:
URL:https://holladaydistillery.com/event/live-music-garrett-childers-2/
LOCATION:Holladay Distillery Welcome Center\, 1 McCormick Lane\, Weston\, MO\, 64098\, United States
CATEGORIES:Free,Live Music
END:VEVENT
BEGIN:VEVENT
DTSTART;VALUE=DATE:20240921
DTEND;VALUE=DATE:20240922
DTSTAMP:20260424T001952
CREATED:20240828T144324Z
LAST-MODIFIED:20240828T151115Z
UID:4244-1726876800-1726963199@holladaydistillery.com
SUMMARY:Fallidays
DESCRIPTION:There’s no better place to enjoy a crisp Fall day than in Weston\, Mo. Plan your visit now to come see us at the Holladay Distillery Welcome Center every Saturday and Sunday for Real Missouri Bourbon\, specialty craft cocktails\, live music\, yard games\, food trucks\, and more!  \nDetails can be found here! 
URL:https://holladaydistillery.com/event/fallidays-at-holladay/2024-09-21/
LOCATION:Holladay Distillery Welcome Center\, 1 McCormick Lane\, Weston\, MO\, 64098\, United States
CATEGORIES:Free,Live Music
END:VEVENT
BEGIN:VEVENT
DTSTART;TZID=America/Chicago:20240921T130000
DTEND;TZID=America/Chicago:20240921T160000
DTSTAMP:20260424T001952
CREATED:20240625T134521Z
LAST-MODIFIED:20240916T155144Z
UID:4092-1726923600-1726934400@holladaydistillery.com
SUMMARY:Live Music - Natalie Prauser
DESCRIPTION:
URL:https://holladaydistillery.com/event/live-music-natalie-prauser-3/
LOCATION:Holladay Distillery Welcome Center\, 1 McCormick Lane\, Weston\, MO\, 64098\, United States
CATEGORIES:Free,Live Music
END:VEVENT
BEGIN:VEVENT
DTSTART;VALUE=DATE:20240922
DTEND;VALUE=DATE:20240923
DTSTAMP:20260424T001952
CREATED:20240828T144324Z
LAST-MODIFIED:20240828T151117Z
UID:4245-1726963200-1727049599@holladaydistillery.com
SUMMARY:Fallidays
DESCRIPTION:There’s no better place to enjoy a crisp Fall day than in Weston\, Mo. Plan your visit now to come see us at the Holladay Distillery Welcome Center every Saturday and Sunday for Real Missouri Bourbon\, specialty craft cocktails\, live music\, yard games\, food trucks\, and more!  \nDetails can be found here! 
URL:https://holladaydistillery.com/event/fallidays-at-holladay/2024-09-22/
LOCATION:Holladay Distillery Welcome Center\, 1 McCormick Lane\, Weston\, MO\, 64098\, United States
CATEGORIES:Free,Live Music
END:VEVENT
BEGIN:VEVENT
DTSTART;TZID=America/Chicago:20240922T120000
DTEND;TZID=America/Chicago:20240922T150000
DTSTAMP:20260424T001952
CREATED:20240625T134554Z
LAST-MODIFIED:20240625T134554Z
UID:4094-1727006400-1727017200@holladaydistillery.com
SUMMARY:Live Music - Jack Summers
DESCRIPTION:
URL:https://holladaydistillery.com/event/live-music-jack-summers-2/
LOCATION:Holladay Distillery Welcome Center\, 1 McCormick Lane\, Weston\, MO\, 64098\, United States
CATEGORIES:Free,Live Music
END:VEVENT
BEGIN:VEVENT
DTSTART;VALUE=DATE:20240928
DTEND;VALUE=DATE:20240929
DTSTAMP:20260424T001952
CREATED:20240828T144324Z
LAST-MODIFIED:20240828T151118Z
UID:4246-1727481600-1727567999@holladaydistillery.com
SUMMARY:Fallidays
DESCRIPTION:There’s no better place to enjoy a crisp Fall day than in Weston\, Mo. Plan your visit now to come see us at the Holladay Distillery Welcome Center every Saturday and Sunday for Real Missouri Bourbon\, specialty craft cocktails\, live music\, yard games\, food trucks\, and more!  \nDetails can be found here! 
URL:https://holladaydistillery.com/event/fallidays-at-holladay/2024-09-28/
LOCATION:Holladay Distillery Welcome Center\, 1 McCormick Lane\, Weston\, MO\, 64098\, United States
CATEGORIES:Free,Live Music
END:VEVENT
BEGIN:VEVENT
DTSTART;TZID=America/Chicago:20240928T130000
DTEND;TZID=America/Chicago:20240928T160000
DTSTAMP:20260424T001952
CREATED:20240625T134626Z
LAST-MODIFIED:20240625T134626Z
UID:4096-1727528400-1727539200@holladaydistillery.com
SUMMARY:Live Music - Jillian Riscoe
DESCRIPTION:
URL:https://holladaydistillery.com/event/live-music-jillian-riscoe-3/
LOCATION:Holladay Distillery Welcome Center\, 1 McCormick Lane\, Weston\, MO\, 64098\, United States
CATEGORIES:Free,Live Music
END:VEVENT
BEGIN:VEVENT
DTSTART;VALUE=DATE:20240929
DTEND;VALUE=DATE:20240930
DTSTAMP:20260424T001952
CREATED:20240828T144324Z
LAST-MODIFIED:20240828T151120Z
UID:4247-1727568000-1727654399@holladaydistillery.com
SUMMARY:Fallidays
DESCRIPTION:There’s no better place to enjoy a crisp Fall day than in Weston\, Mo. Plan your visit now to come see us at the Holladay Distillery Welcome Center every Saturday and Sunday for Real Missouri Bourbon\, specialty craft cocktails\, live music\, yard games\, food trucks\, and more!  \nDetails can be found here! 
URL:https://holladaydistillery.com/event/fallidays-at-holladay/2024-09-29/
LOCATION:Holladay Distillery Welcome Center\, 1 McCormick Lane\, Weston\, MO\, 64098\, United States
CATEGORIES:Free,Live Music
END:VEVENT
BEGIN:VEVENT
DTSTART;TZID=America/Chicago:20240929T120000
DTEND;TZID=America/Chicago:20240929T150000
DTSTAMP:20260424T001952
CREATED:20240625T134706Z
LAST-MODIFIED:20240625T134706Z
UID:4098-1727611200-1727622000@holladaydistillery.com
SUMMARY:Live Music - Nicole Springer
DESCRIPTION:
URL:https://holladaydistillery.com/event/live-music-nicole-springer-3/
LOCATION:Holladay Distillery Welcome Center\, 1 McCormick Lane\, Weston\, MO\, 64098\, United States
CATEGORIES:Free,Live Music
END:VEVENT
END:VCALENDAR