BEGIN:VCALENDAR
VERSION:2.0
PRODID:-//Holladay Distillery - ECPv6.15.20//NONSGML v1.0//EN
CALSCALE:GREGORIAN
METHOD:PUBLISH
X-WR-CALNAME:Holladay Distillery
X-ORIGINAL-URL:https://holladaydistillery.com
X-WR-CALDESC:Events for Holladay Distillery
REFRESH-INTERVAL;VALUE=DURATION:PT1H
X-Robots-Tag:noindex
X-PUBLISHED-TTL:PT1H
BEGIN:VTIMEZONE
TZID:America/Chicago
BEGIN:DAYLIGHT
TZOFFSETFROM:-0600
TZOFFSETTO:-0500
TZNAME:CDT
DTSTART:20230312T080000
END:DAYLIGHT
BEGIN:STANDARD
TZOFFSETFROM:-0500
TZOFFSETTO:-0600
TZNAME:CST
DTSTART:20231105T070000
END:STANDARD
BEGIN:DAYLIGHT
TZOFFSETFROM:-0600
TZOFFSETTO:-0500
TZNAME:CDT
DTSTART:20240310T080000
END:DAYLIGHT
BEGIN:STANDARD
TZOFFSETFROM:-0500
TZOFFSETTO:-0600
TZNAME:CST
DTSTART:20241103T070000
END:STANDARD
BEGIN:DAYLIGHT
TZOFFSETFROM:-0600
TZOFFSETTO:-0500
TZNAME:CDT
DTSTART:20250309T080000
END:DAYLIGHT
BEGIN:STANDARD
TZOFFSETFROM:-0500
TZOFFSETTO:-0600
TZNAME:CST
DTSTART:20251102T070000
END:STANDARD
END:VTIMEZONE
BEGIN:VEVENT
DTSTART;VALUE=DATE:20241019
DTEND;VALUE=DATE:20241020
DTSTAMP:20260424T001837
CREATED:20240828T144324Z
LAST-MODIFIED:20240828T151135Z
UID:4252-1729296000-1729382399@holladaydistillery.com
SUMMARY:Fallidays
DESCRIPTION:There’s no better place to enjoy a crisp Fall day than in Weston\, Mo. Plan your visit now to come see us at the Holladay Distillery Welcome Center every Saturday and Sunday for Real Missouri Bourbon\, specialty craft cocktails\, live music\, yard games\, food trucks\, and more!  \nDetails can be found here! 
URL:https://holladaydistillery.com/event/fallidays-at-holladay/2024-10-19/
LOCATION:Holladay Distillery Welcome Center\, 1 McCormick Lane\, Weston\, MO\, 64098\, United States
CATEGORIES:Free,Live Music
END:VEVENT
BEGIN:VEVENT
DTSTART;TZID=America/Chicago:20241019T130000
DTEND;TZID=America/Chicago:20241019T160000
DTSTAMP:20260424T001837
CREATED:20240625T134933Z
LAST-MODIFIED:20240625T134933Z
UID:4108-1729342800-1729353600@holladaydistillery.com
SUMMARY:Live Music - Kierra Rae
DESCRIPTION:
URL:https://holladaydistillery.com/event/live-music-kierra-rae-4/
LOCATION:Holladay Distillery Welcome Center\, 1 McCormick Lane\, Weston\, MO\, 64098\, United States
CATEGORIES:Free,Live Music
END:VEVENT
END:VCALENDAR