BEGIN:VCALENDAR
VERSION:2.0
PRODID:-//Holladay Distillery - ECPv6.15.20//NONSGML v1.0//EN
CALSCALE:GREGORIAN
METHOD:PUBLISH
X-ORIGINAL-URL:https://holladaydistillery.com
X-WR-CALDESC:Events for Holladay Distillery
REFRESH-INTERVAL;VALUE=DURATION:PT1H
X-Robots-Tag:noindex
X-PUBLISHED-TTL:PT1H
BEGIN:VTIMEZONE
TZID:America/Chicago
BEGIN:DAYLIGHT
TZOFFSETFROM:-0600
TZOFFSETTO:-0500
TZNAME:CDT
DTSTART:20240310T080000
END:DAYLIGHT
BEGIN:STANDARD
TZOFFSETFROM:-0500
TZOFFSETTO:-0600
TZNAME:CST
DTSTART:20241103T070000
END:STANDARD
BEGIN:DAYLIGHT
TZOFFSETFROM:-0600
TZOFFSETTO:-0500
TZNAME:CDT
DTSTART:20250309T080000
END:DAYLIGHT
BEGIN:STANDARD
TZOFFSETFROM:-0500
TZOFFSETTO:-0600
TZNAME:CST
DTSTART:20251102T070000
END:STANDARD
BEGIN:DAYLIGHT
TZOFFSETFROM:-0600
TZOFFSETTO:-0500
TZNAME:CDT
DTSTART:20260308T080000
END:DAYLIGHT
BEGIN:STANDARD
TZOFFSETFROM:-0500
TZOFFSETTO:-0600
TZNAME:CST
DTSTART:20261101T070000
END:STANDARD
END:VTIMEZONE
BEGIN:VEVENT
DTSTART;TZID=America/Chicago:20250802T130000
DTEND;TZID=America/Chicago:20250802T160000
DTSTAMP:20260423T041747
CREATED:20250429T193305Z
LAST-MODIFIED:20250429T193305Z
UID:4621-1754139600-1754150400@holladaydistillery.com
SUMMARY:Live Music - Kierra Rae
DESCRIPTION:
URL:https://holladaydistillery.com/event/live-music-kierra-rae/2025-08-02/
LOCATION:Holladay Distillery Welcome Center\, 1 McCormick Lane\, Weston\, MO\, 64098\, United States
CATEGORIES:Free,Live Music
END:VEVENT
BEGIN:VEVENT
DTSTART;TZID=America/Chicago:20250803T120000
DTEND;TZID=America/Chicago:20250803T150000
DTSTAMP:20260423T041747
CREATED:20250429T191848Z
LAST-MODIFIED:20250429T191848Z
UID:4610-1754222400-1754233200@holladaydistillery.com
SUMMARY:Live Music - Miguel Antonio
DESCRIPTION:
URL:https://holladaydistillery.com/event/live-music-miguel-antonio-3/2025-08-03/
LOCATION:Holladay Distillery Welcome Center\, 1 McCormick Lane\, Weston\, MO\, 64098\, United States
CATEGORIES:Free,Live Music
END:VEVENT
BEGIN:VEVENT
DTSTART;TZID=America/Chicago:20250809T130000
DTEND;TZID=America/Chicago:20250809T160000
DTSTAMP:20260423T041747
CREATED:20250429T191552Z
LAST-MODIFIED:20250429T191552Z
UID:4605-1754744400-1754755200@holladaydistillery.com
SUMMARY:Live Music - Garrett Childers
DESCRIPTION:
URL:https://holladaydistillery.com/event/live-music-garrett-childers/2025-08-09/
LOCATION:Holladay Distillery Welcome Center\, 1 McCormick Lane\, Weston\, MO\, 64098\, United States
CATEGORIES:Free,Live Music
END:VEVENT
BEGIN:VEVENT
DTSTART;TZID=America/Chicago:20250810T120000
DTEND;TZID=America/Chicago:20250810T150000
DTSTAMP:20260423T041747
CREATED:20250429T193001Z
LAST-MODIFIED:20250429T193001Z
UID:4615-1754827200-1754838000@holladaydistillery.com
SUMMARY:Live Music - Jillian Riscoe
DESCRIPTION:
URL:https://holladaydistillery.com/event/live-music-jillian-riscoe/2025-08-10/
LOCATION:Holladay Distillery Welcome Center\, 1 McCormick Lane\, Weston\, MO\, 64098\, United States
CATEGORIES:Free,Live Music
END:VEVENT
BEGIN:VEVENT
DTSTART;TZID=America/Chicago:20250816T130000
DTEND;TZID=America/Chicago:20250816T160000
DTSTAMP:20260423T041747
CREATED:20250429T191109Z
LAST-MODIFIED:20250429T191200Z
UID:4589-1755349200-1755360000@holladaydistillery.com
SUMMARY:Live Music - Noah Anthony
DESCRIPTION:
URL:https://holladaydistillery.com/event/live-music-noah-anthony/2025-08-16/
LOCATION:Holladay Distillery Welcome Center\, 1 McCormick Lane\, Weston\, MO\, 64098\, United States
CATEGORIES:Free,Live Music
END:VEVENT
BEGIN:VEVENT
DTSTART;TZID=America/Chicago:20250817T120000
DTEND;TZID=America/Chicago:20250817T150000
DTSTAMP:20260423T041747
CREATED:20250429T193447Z
LAST-MODIFIED:20250429T193447Z
UID:4625-1755432000-1755442800@holladaydistillery.com
SUMMARY:Live Music - Nicole Springer
DESCRIPTION:
URL:https://holladaydistillery.com/event/live-music-nicole-springer/2025-08-17/
LOCATION:Holladay Distillery Welcome Center\, 1 McCormick Lane\, Weston\, MO\, 64098\, United States
CATEGORIES:Free,Live Music
END:VEVENT
BEGIN:VEVENT
DTSTART;TZID=America/Chicago:20250823T130000
DTEND;TZID=America/Chicago:20250823T160000
DTSTAMP:20260423T041747
CREATED:20250429T191359Z
LAST-MODIFIED:20250429T191359Z
UID:4602-1755954000-1755964800@holladaydistillery.com
SUMMARY:Live Music - Natalie Prauser
DESCRIPTION:
URL:https://holladaydistillery.com/event/live-music-natalie-prauser-4/2025-08-23/
LOCATION:Holladay Distillery Welcome Center\, 1 McCormick Lane\, Weston\, MO\, 64098\, United States
CATEGORIES:Free,Live Music
END:VEVENT
BEGIN:VEVENT
DTSTART;TZID=America/Chicago:20250830T130000
DTEND;TZID=America/Chicago:20250830T160000
DTSTAMP:20260423T041747
CREATED:20250429T181854Z
LAST-MODIFIED:20250429T185445Z
UID:4584-1756558800-1756569600@holladaydistillery.com
SUMMARY:Live Music - Jack Summers
DESCRIPTION:
URL:https://holladaydistillery.com/event/live-music-jack-summers/2025-08-30/
LOCATION:Holladay Distillery Welcome Center\, 1 McCormick Lane\, Weston\, MO\, 64098\, United States
CATEGORIES:Free,Live Music
END:VEVENT
BEGIN:VEVENT
DTSTART;TZID=America/Chicago:20250831T120000
DTEND;TZID=America/Chicago:20250831T150000
DTSTAMP:20260423T041747
CREATED:20250429T193821Z
LAST-MODIFIED:20250429T193821Z
UID:4631-1756641600-1756652400@holladaydistillery.com
SUMMARY:Live Music - Caleb Blacksher
DESCRIPTION:
URL:https://holladaydistillery.com/event/live-music-caleb-blacksher-2/2025-08-31/
LOCATION:Holladay Distillery Welcome Center\, 1 McCormick Lane\, Weston\, MO\, 64098\, United States
CATEGORIES:Free,Live Music
END:VEVENT
END:VCALENDAR